BEGIN:VCALENDAR
VERSION:2.0
PRODID:-//VITEMA - ECPv6.15.20//NONSGML v1.0//EN
CALSCALE:GREGORIAN
METHOD:PUBLISH
X-ORIGINAL-URL:https://vitema.vi.gov
X-WR-CALDESC:Events for VITEMA
REFRESH-INTERVAL;VALUE=DURATION:PT1H
X-Robots-Tag:noindex
X-PUBLISHED-TTL:PT1H
BEGIN:VTIMEZONE
TZID:America/Halifax
BEGIN:DAYLIGHT
TZOFFSETFROM:-0400
TZOFFSETTO:-0300
TZNAME:ADT
DTSTART:20240310T060000
END:DAYLIGHT
BEGIN:STANDARD
TZOFFSETFROM:-0300
TZOFFSETTO:-0400
TZNAME:AST
DTSTART:20241103T050000
END:STANDARD
BEGIN:DAYLIGHT
TZOFFSETFROM:-0400
TZOFFSETTO:-0300
TZNAME:ADT
DTSTART:20250309T060000
END:DAYLIGHT
BEGIN:STANDARD
TZOFFSETFROM:-0300
TZOFFSETTO:-0400
TZNAME:AST
DTSTART:20251102T050000
END:STANDARD
BEGIN:DAYLIGHT
TZOFFSETFROM:-0400
TZOFFSETTO:-0300
TZNAME:ADT
DTSTART:20260308T060000
END:DAYLIGHT
BEGIN:STANDARD
TZOFFSETFROM:-0300
TZOFFSETTO:-0400
TZNAME:AST
DTSTART:20261101T050000
END:STANDARD
BEGIN:DAYLIGHT
TZOFFSETFROM:-0400
TZOFFSETTO:-0300
TZNAME:ADT
DTSTART:20270314T060000
END:DAYLIGHT
BEGIN:STANDARD
TZOFFSETFROM:-0300
TZOFFSETTO:-0400
TZNAME:AST
DTSTART:20271107T050000
END:STANDARD
END:VTIMEZONE
BEGIN:VTIMEZONE
TZID:UTC
BEGIN:STANDARD
TZOFFSETFROM:+0000
TZOFFSETTO:+0000
TZNAME:UTC
DTSTART:20250101T000000
END:STANDARD
END:VTIMEZONE
BEGIN:VTIMEZONE
TZID:Asia/Dubai
BEGIN:STANDARD
TZOFFSETFROM:+0400
TZOFFSETTO:+0400
TZNAME:+04
DTSTART:20250101T000000
END:STANDARD
END:VTIMEZONE
BEGIN:VEVENT
DTSTART;VALUE=DATE:20251105
DTEND;VALUE=DATE:20251106
DTSTAMP:20260424T153502
CREATED:20251201T182326Z
LAST-MODIFIED:20251201T183134Z
UID:2188-1762300800-1762387199@vitema.vi.gov
SUMMARY:World Tsunami Awareness Day
DESCRIPTION:Tsunamis have no seasons. They can happen any time. And anywhere. \nNovember 5: World Tsunami Awareness Day \n#TsunamiDay #GetToHighGround \n 
URL:https://vitema.vi.gov/event/world-tsunami-awareness-day/
CATEGORIES:Special Dates
ATTACH;FMTTYPE=image/jpeg:https://vitema.vi.gov/wp-content/uploads/2025/12/tsunami-day-2025.jpg
END:VEVENT
BEGIN:VEVENT
DTSTART;TZID=America/Halifax:20251120T110000
DTEND;TZID=America/Halifax:20251120T110100
DTSTAMP:20260424T153502
CREATED:20251201T181338Z
LAST-MODIFIED:20251201T182820Z
UID:2182-1763636400-1763636460@vitema.vi.gov
SUMMARY:Third Thursday Tsunami Testing (STX)
DESCRIPTION:Next testing date: Thursday\, November 20\, 2025. \nSTX District @11:00 am \n 
URL:https://vitema.vi.gov/event/third-thursday-tsunami-testing-stx/
CATEGORIES:Tests
ATTACH;FMTTYPE=image/jpeg:https://vitema.vi.gov/wp-content/uploads/2025/12/Tsunami-events-page-website.jpg
END:VEVENT
BEGIN:VEVENT
DTSTART;TZID=America/Halifax:20251120T111500
DTEND;TZID=America/Halifax:20251120T111600
DTSTAMP:20260424T153502
CREATED:20251201T181836Z
LAST-MODIFIED:20251201T182748Z
UID:2186-1763637300-1763637360@vitema.vi.gov
SUMMARY:Third Thursday Tsunami Testing (STT)
DESCRIPTION:Next testing date: Thursday\, November 20\, 2025. \nSTT District @11:15 am \n 
URL:https://vitema.vi.gov/event/third-thursday-tsunami-testing-stt/
CATEGORIES:Tests
ATTACH;FMTTYPE=image/jpeg:https://vitema.vi.gov/wp-content/uploads/2025/12/Tsunami-events-page-website.jpg
END:VEVENT
BEGIN:VEVENT
DTSTART;VALUE=DATE:20260214
DTEND;VALUE=DATE:20260217
DTSTAMP:20260424T153502
CREATED:20260211T173603Z
LAST-MODIFIED:20260211T174602Z
UID:3612-1771027200-1771286399@vitema.vi.gov
SUMMARY:Partners in Preparedness
DESCRIPTION:USVI Partners in Preparedness: Generating Community Awareness \nJOIN US FOR A FREE COMMUNITY PREPAREDNESS EVENT! \nAll-hazards preparedness means being ready for any emergency – whether natural like hurricanes\, earthquakes\, and tsunamis\, or human-caused like active shooter situations. Staying informed helps you know how to respond quickly and safely\, potentially saving lives. \nALERT VI is the Territory’s mass-notification system. It provides life-saving alerts regarding natural disasters such as hurricanes. \nSt. Croix. \nWhen: February 14-16\, 2026\nWhere: Agricultural Fairgrounds \nStop by our tent for a free chance to win a brand new generator! Sponsored by Crowley\, O’Neale’s Transport Inc.\, Cost.U.Less\, and The Home Depot.
URL:https://vitema.vi.gov/event/partners-in-preparedness/
LOCATION:Agricultural Fairgrounds
ATTACH;FMTTYPE=image/jpeg:https://vitema.vi.gov/wp-content/uploads/2026/02/Ag-Fair-website-2026.jpg
END:VEVENT
BEGIN:VEVENT
DTSTART;TZID=Asia/Dubai:20260219T110000
DTEND;TZID=Asia/Dubai:20260219T113000
DTSTAMP:20260424T153502
CREATED:20260211T180422Z
LAST-MODIFIED:20260317T115821Z
UID:3627-1771498800-1771500600@vitema.vi.gov
SUMMARY:Third Thursday Tsunami Testing
DESCRIPTION:THIRD THURSDAY TSUNAMI TESTING\nNext Testing Date: Thursday\, February 19\, 2026 \nSt. Croix District @ 11:00 am \nSt. Thomas District @11:15 am
URL:https://vitema.vi.gov/event/third-thursday-tsunami-testing/
CATEGORIES:Tests
ATTACH;FMTTYPE=image/jpeg:https://vitema.vi.gov/wp-content/uploads/2026/02/Tsunami-events-page-website-FEB26.jpg
END:VEVENT
BEGIN:VEVENT
DTSTART;TZID=America/Halifax:20260324T180000
DTEND;TZID=America/Halifax:20260324T200000
DTSTAMP:20260424T153502
CREATED:20260317T114939Z
LAST-MODIFIED:20260317T122335Z
UID:3658-1774375200-1774382400@vitema.vi.gov
SUMMARY:Understanding & Using Text-to-911
DESCRIPTION:Understanding & Using Text-to-911\nAwareness Training for the Deaf & Hard of Hearing Community \nHosted by:\nVirgin Islands Territorial Emergency Management Agency (VITEMA)\nOffice of the Territorial ADA Coordinator \nST. CROIX SESSION \nTuesday\, March 24th\n6:00 PM – 8:00 PM\nDisability Rights Center of the Virgin Islands\n(Frederiksted\, Near Kmart) \nThis session is open to: \n\nDeaf & Hard of Hearing community members\nFamily members\nCaregivers\nAdvocates\n\nASL interpretation will be provided. \nVirtual attendance available: tinyurl.com/T2911 \nFor RSVP\, transportation\, or more information\, contact: \n\n(340) 473-1848\n(340) 998-3571\nada@go.vi.gov\nedidiong.utibe@go.vi.gov\njulien.henley@go.vi.gov\n\nPlease RSVP as soon as possible — space is limited. \nAll accommodations must be requested at least 7 days prior. \n– – – – \nThe Virgin Islands Territorial Emergency Management Agency (VITEMA) and the Office of the Territorial ADA Coordinator are co-hosting a Deaf & Hard of Hearing Awareness Training focused on understanding and using Text-to-911. \nThe training will be held on March 24\, 2026 at 6:00 PM at the Disability Rights Center of the Virgin Islands (DRCVI) in St. Croix. \nThis session is designed to educate the Deaf and Hard of Hearing community — as well as family members\, caregivers\, and community advocates — on how to properly use Text-to-911\, when and how to send emergency text messages\, and best practices for effective emergency communication. Attendees will also receive updates on local accessibility and emergency preparedness initiatives. \nTransportation will be provided upon request. \nFor more information or to request transportation\, please call 340-473-1848 or 340-998-3571\, or email ada@go.vi.gov\, julien.henley@go.vi.gov\, or edidiong.utibe@go.vi.gov.
URL:https://vitema.vi.gov/event/understanding-using-text-to-911/
CATEGORIES:Trainings
ATTACH;FMTTYPE=image/jpeg:https://vitema.vi.gov/wp-content/uploads/2026/03/Text-to-911-Training-32426-flyer.jpg
END:VEVENT
END:VCALENDAR